BEGIN:VCALENDAR
VERSION:2.0
PRODID:-//Bereavement Network Resources of Sacramento - ECPv6.15.20//NONSGML v1.0//EN
CALSCALE:GREGORIAN
METHOD:PUBLISH
X-WR-CALNAME:Bereavement Network Resources of Sacramento
X-ORIGINAL-URL:https://griefhelpsacramento.com
X-WR-CALDESC:Events for Bereavement Network Resources of Sacramento
REFRESH-INTERVAL;VALUE=DURATION:PT1H
X-Robots-Tag:noindex
X-PUBLISHED-TTL:PT1H
BEGIN:VTIMEZONE
TZID:America/Los_Angeles
BEGIN:DAYLIGHT
TZOFFSETFROM:-0800
TZOFFSETTO:-0700
TZNAME:PDT
DTSTART:20250309T100000
END:DAYLIGHT
BEGIN:STANDARD
TZOFFSETFROM:-0700
TZOFFSETTO:-0800
TZNAME:PST
DTSTART:20251102T090000
END:STANDARD
BEGIN:DAYLIGHT
TZOFFSETFROM:-0800
TZOFFSETTO:-0700
TZNAME:PDT
DTSTART:20260308T100000
END:DAYLIGHT
BEGIN:STANDARD
TZOFFSETFROM:-0700
TZOFFSETTO:-0800
TZNAME:PST
DTSTART:20261101T090000
END:STANDARD
BEGIN:DAYLIGHT
TZOFFSETFROM:-0800
TZOFFSETTO:-0700
TZNAME:PDT
DTSTART:20270314T100000
END:DAYLIGHT
BEGIN:STANDARD
TZOFFSETFROM:-0700
TZOFFSETTO:-0800
TZNAME:PST
DTSTART:20271107T090000
END:STANDARD
END:VTIMEZONE
BEGIN:VEVENT
DTSTART;TZID=America/Los_Angeles:20260430T190000
DTEND;TZID=America/Los_Angeles:20260430T210000
DTSTAMP:20260423T114136
CREATED:20260423T044229Z
LAST-MODIFIED:20260423T044229Z
UID:1132-1777575600-1777582800@griefhelpsacramento.com
SUMMARY:Grief Wise Circle for Men and Male-Identifying Teens
DESCRIPTION:This is a structured\, facilitated circle that combines grounded physical practices\, honest conversation\, and relational support. It is specifically designed for male-identifying participants who may struggle to access more traditional grief support settings. \n  \nThis is not therapy\, and it’s not a lecture. Participants are invited into a safe\, respectful space where they can engage grief directly—through the body\, through presence\, and through connection with other men. The aim is to reduce isolation\, increase emotional regulation\, and build resilience. \n  \nThere is no charge for participating.
URL:https://griefhelpsacramento.com/calendar/grief-wise-circle-for-men-and-male-identifying-teens/
LOCATION:YoloCares\, 1909 Galileo Place\, Ste C\, Davis\, CA\, 95618\, United States
ATTACH;FMTTYPE=application/pdf:https://griefhelpsacramento.com/wp-content/uploads/2026/04/Mens-Grief-Wise-Circles-26.pdf
END:VEVENT
BEGIN:VEVENT
DTSTART;TZID=America/Los_Angeles:20260513T090000
DTEND;TZID=America/Los_Angeles:20260513T110000
DTSTAMP:20260423T114136
CREATED:20260412T201928Z
LAST-MODIFIED:20260412T202522Z
UID:1111-1778662800-1778670000@griefhelpsacramento.com
SUMMARY:May Bereavement Newtworking Event
DESCRIPTION:Join the Bereavement Network Resources of Sacramento for our Quarterly Networking Event in Partnership with Morgan Oaks Eternal Preserve. \nWednesday\, May 13\, 2026\n9:00 am-11:00 am\nMorgan Oaks Eternal Preserve\n421 Fleming Road\, Lincoln\, CA 95648 \nSee attached flyer for more information. \nR.S.V.P. griefhelpsacramento@gmail.com – (916) 557-5882
URL:https://griefhelpsacramento.com/calendar/may-bereavement-newtworking-event/
LOCATION:Morgan Oaks Eternal Preserve\, 421 Fleming Rd.\, Lincoln\, CA\, 95648\, United States
ATTACH;FMTTYPE=application/pdf:https://griefhelpsacramento.com/wp-content/uploads/2026/04/May-Flyer-in-Power-point-pdf.pdf
END:VEVENT
BEGIN:VEVENT
DTSTART;TZID=America/Los_Angeles:20260709T190000
DTEND;TZID=America/Los_Angeles:20260709T210000
DTSTAMP:20260423T114136
CREATED:20260423T044519Z
LAST-MODIFIED:20260423T044519Z
UID:1137-1783623600-1783630800@griefhelpsacramento.com
SUMMARY:Grief Wise Circle for Men and Male-Identifying Teens
DESCRIPTION:This is a structured\, facilitated circle that combines grounded physical practices\, honest conversation\, and relational support. It is specifically designed for male-identifying participants who may struggle to access more traditional grief support settings. \n  \nThis is not therapy\, and it’s not a lecture. Participants are invited into a safe\, respectful space where they can engage grief directly—through the body\, through presence\, and through connection with other men. The aim is to reduce isolation\, increase emotional regulation\, and build resilience. \n  \nThere is no charge for participating.
URL:https://griefhelpsacramento.com/calendar/grief-wise-circle-for-men-and-male-identifying-teens-2/
LOCATION:YoloCares\, 1909 Galileo Place\, Ste C\, Davis\, CA\, 95618\, United States
ATTACH;FMTTYPE=application/pdf:https://griefhelpsacramento.com/wp-content/uploads/2026/04/Mens-Grief-Wise-Circles-26-1.pdf
END:VEVENT
BEGIN:VEVENT
DTSTART;TZID=America/Los_Angeles:20260827T190000
DTEND;TZID=America/Los_Angeles:20260827T210000
DTSTAMP:20260423T114136
CREATED:20260423T044725Z
LAST-MODIFIED:20260423T044725Z
UID:1140-1787857200-1787864400@griefhelpsacramento.com
SUMMARY:Grief Wise Circle for Men and Male-Identifying Teens
DESCRIPTION:This is a structured\, facilitated circle that combines grounded physical practices\, honest conversation\, and relational support. It is specifically designed for male-identifying participants who may struggle to access more traditional grief support settings. \n\nThis is not therapy\, and it’s not a lecture. Participants are invited into a safe\, respectful space where they can engage grief directly—through the body\, through presence\, and through connection with other men. The aim is to reduce isolation\, increase emotional regulation\, and build resilience. \n  \nThere is no charge for participating.
URL:https://griefhelpsacramento.com/calendar/grief-wise-circle-for-men-and-male-identifying-teens-3/
LOCATION:YoloCares\, 1909 Galileo Place\, Ste C\, Davis\, CA\, 95618\, United States
ATTACH;FMTTYPE=application/pdf:https://griefhelpsacramento.com/wp-content/uploads/2026/04/Mens-Grief-Wise-Circles-26-2.pdf
END:VEVENT
BEGIN:VEVENT
DTSTART;TZID=America/Los_Angeles:20260924T190000
DTEND;TZID=America/Los_Angeles:20260924T210000
DTSTAMP:20260423T114136
CREATED:20260423T044917Z
LAST-MODIFIED:20260423T044917Z
UID:1143-1790276400-1790283600@griefhelpsacramento.com
SUMMARY:Grief Wise Circle for Men and Male-Identifying Teens
DESCRIPTION:This is a structured\, facilitated circle that combines grounded physical practices\, honest conversation\, and relational support. It is specifically designed for male-identifying participants who may struggle to access more traditional grief support settings. \nThis is not therapy\, and it’s not a lecture. Participants are invited into a safe\, respectful space where they can engage grief directly—through the body\, through presence\, and through connection with other men. The aim is to reduce isolation\, increase emotional regulation\, and build resilience. \n  \nThere is no charge for participating.
URL:https://griefhelpsacramento.com/calendar/grief-wise-circle-for-men-and-male-identifying-teens-4/
LOCATION:YoloCares\, 1909 Galileo Place\, Ste C\, Davis\, CA\, 95618\, United States
ATTACH;FMTTYPE=application/pdf:https://griefhelpsacramento.com/wp-content/uploads/2026/04/Mens-Grief-Wise-Circles-26-3.pdf
END:VEVENT
BEGIN:VEVENT
DTSTART;TZID=America/Los_Angeles:20261112T190000
DTEND;TZID=America/Los_Angeles:20261112T210000
DTSTAMP:20260423T114136
CREATED:20260423T045238Z
LAST-MODIFIED:20260423T045238Z
UID:1146-1794510000-1794517200@griefhelpsacramento.com
SUMMARY:Grief Wise Circle for Men and Male-Identifying Teens
DESCRIPTION:This is a structured\, facilitated circle that combines grounded physical practices\, honest conversation\, and relational support. It is specifically designed for male-identifying participants who may struggle to access more traditional grief support settings. \nThis is not therapy\, and it’s not a lecture. Participants are invited into a safe\, respectful space where they can engage grief directly—through the body\, through presence\, and through connection with other men. The aim is to reduce isolation\, increase emotional regulation\, and build resilience. \n  \nThere is no charge for participating.
URL:https://griefhelpsacramento.com/calendar/grief-wise-circle-for-men-and-male-identifying-teens-5/
LOCATION:YoloCares\, 1909 Galileo Place\, Ste C\, Davis\, CA\, 95618\, United States
ATTACH;FMTTYPE=application/pdf:https://griefhelpsacramento.com/wp-content/uploads/2026/04/Mens-Grief-Wise-Circles-26-4.pdf
END:VEVENT
END:VCALENDAR